BEGIN:VCALENDAR
VERSION:2.0
PRODID:-//Library
CALSCALE:GREGORIAN
METHOD:PUBLISH
X-WR-CALNAME:Library
X-ORIGINAL-URL:https://lib.cmb.ac.lk/event/human-library-session-vi/
X-WR-CALDESC:Human Library  2019  (Session &#8211; 06) &#8211;  &#8220;Confidence to Speak English: A Necessity for South Asian Learners?&#8221;
BEGIN:VEVENT
DTSTART:20191219T140000
DTEND:20191219T153000
SUMMARY:Human Library  2019  (Session &#8211; 06) &#8211;  &#8220;Confidence to Speak English: A Necessity for South Asian Learners?&#8221;
DESCRIPTION:
LOCATION:'Learning Commons' of the Main Library at the Ground Floor  
END:VEVENT
END:VCALENDAR
