BEGIN:VCALENDAR
VERSION:2.0
PRODID:-//Library
CALSCALE:GREGORIAN
METHOD:PUBLISH
X-WR-CALNAME:Library
X-ORIGINAL-URL:https://lib.cmb.ac.lk/event/oxford-university-press/
X-WR-CALDESC:Oxford University Press
BEGIN:VEVENT
DTSTART:20200210T140000
DTEND:20200210T160000
SUMMARY:Oxford University Press
DESCRIPTION:
LOCATION:The Auditorium, Main Library, University of Colombo
END:VEVENT
END:VCALENDAR
