BEGIN:VCALENDAR
VERSION:2.0
PRODID:-//Library
CALSCALE:GREGORIAN
METHOD:PUBLISH
X-WR-CALNAME:Library
X-ORIGINAL-URL:https://lib.cmb.ac.lk/event/training-session-on-work-ethics-for-library-information-assistants-of-the-library-network-university-of-colombo/
X-WR-CALDESC:Training Session on Work Ethics for Library Information Assistants of the Library Network, University of Colombo
BEGIN:VEVENT
DTSTART:20200205T093000
DTEND:20200205T123000
SUMMARY:Training Session on Work Ethics for Library Information Assistants of the Library Network, University of Colombo
DESCRIPTION:
LOCATION:Auditorium of the Main Library
END:VEVENT
END:VCALENDAR
